BEGIN:VCALENDAR
VERSION:2.0
PRODID:-//hacksw/handcal//NONSGML v1.0//EN
BEGIN:VEVENT
DTSTART:20251030T090000Z
DTEND:20251030T180000Z
LOCATION:Paris Expo - Porte de Versailles \n1, Place de la Porte de Versailles \n75015 PARIS
ORGANIZER;CN=CentraleSupélec Alumni:MAILTO:csa-alumni@centralesupelec-alumni.com
SUMMARY:(ANNULÉ) Salon du Chocolat - Parcours expérientiel
DESCRIPTION:\n🍫 CentraleSupélec Alumni fête les 30 ans du Salon du Chocolat !\nÀ l’occasion des 30 ans du mythique Salon du Chocolat, nous sommes heureux d’annoncer un partenariat inédit entre CentraleSupélec...
URL:https://association.centralesupelec-alumni.com/fr/event/-annule-salon-du-chocolat-parcours-experientiel/2025/10/30/9247
BEGIN:VALARM
TRIGGER:-P0DT1H0M0S
ACTION:DISPLAY
END:VALARM
END:VEVENT
END:VCALENDAR