BEGIN:VCALENDAR
VERSION:2.0
PRODID:-//hacksw/handcal//NONSGML v1.0//EN
BEGIN:VEVENT
DTSTART:20250922T070000Z
DTEND:20250922T110000Z
LOCATION:
ORGANIZER;CN=Patrick Coppin:MAILTO:patrick.coppin@gmail.com
SUMMARY:Réunion Réseau du 22 septembre 2025 (membres CSA uniquement)
DESCRIPTION:Le groupe Contact de Centrale Supélec Alumni organise le lundi 22 SEPTEMBRE 2025 à 9 h une réunion réseau par Zoom  dont le principe est le suivant :24 participants, 12 CentraleSupélec et 12...
URL:https://association.centralesupelec-alumni.com/fr/event/reunion-reseau-du-22-septembre-2025-membres-csa-uniquement/2025/09/22/9245
BEGIN:VALARM
TRIGGER:-P0DT1H0M0S
ACTION:DISPLAY
END:VALARM
END:VEVENT
END:VCALENDAR