BEGIN:VCALENDAR
VERSION:2.0
PRODID:-//hacksw/handcal//NONSGML v1.0//EN
BEGIN:VEVENT
DTSTART:20250722T150000Z
DTEND:20250722T163000Z
LOCATION:
ORGANIZER;CN=Jean-Christophe Strich - Repreneurs (CSA):MAILTO:jc.strich@free.fr
SUMMARY:CS Repreneurs : cédants d'entreprise, accompagnants de cédants, professionnels du LBO : ceci est pour vous !
DESCRIPTION:Cher Camarade Repreneur,\nSi tu es cédant en recherche d'un repreneur, professionnel accompagnant des cédants dans leur processus de transmission, ou travaillant dans le domaine des LBO en recherche...
URL:https://association.centralesupelec-alumni.com/fr/group/repreneurs-csa/331/calendar/cs-repreneurs-cedants-d-entreprise-accompagnants-de-cedants-professionnels-du-lbo-ceci-est-pour-vous/2025/07/22/9244
BEGIN:VALARM
TRIGGER:-P0DT1H0M0S
ACTION:DISPLAY
END:VALARM
END:VEVENT
END:VCALENDAR