BEGIN:VCALENDAR
VERSION:2.0
PRODID:-//hacksw/handcal//NONSGML v1.0//EN
BEGIN:VEVENT
DTSTART:20251127T083000Z
DTEND:20251130T163000Z
LOCATION:Maison CentraleSupélec \n8, Rue Jean Goujon - 5e et 6e étages \n75008 PARIS
ORGANIZER;CN=CentraleSupélec Alumni:MAILTO:csa-alumni@centralesupelec-alumni.com
SUMMARY:Salon des Arts CentraleSupélec Alumni 2025 : venez nombreux découvrir les oeuvres de nos alumni !
DESCRIPTION:1er prix de l'artiste et 1er prix de peinture attribué à Christel  Soubeyre (ECP 98)\nPour visiter notre Salon des Arts\nNous avons l'honneur de vous confirmer l'organisation\ndu Salon des Arts...
URL:https://association.centralesupelec-alumni.com/fr/event/salon-des-arts-centralesupelec-alumni-2025-venez-nombreux-decouvrir-les-oeuvres-de-nos-alumni/2025/11/27/9234
BEGIN:VALARM
TRIGGER:-P0DT1H0M0S
ACTION:DISPLAY
END:VALARM
END:VEVENT
END:VCALENDAR