BEGIN:VCALENDAR
VERSION:2.0
PRODID:-//hacksw/handcal//NONSGML v1.0//EN
BEGIN:VEVENT
DTSTART:20250930T170000Z
DTEND:20250930T200000Z
LOCATION:Maison CentraleSupélec \n8, Rue Jean Goujon \n75008 PARIS
ORGANIZER;CN=CentraleSupélec Alumni:MAILTO:csa-alumni@centralesupelec-alumni.com
SUMMARY:Soirée d’inauguration des nouveaux locaux
DESCRIPTION:CentraleSupélec a le plaisir de vous inviter à la soirée d’inauguration des nouveaux espaces de la Maison CentraleSupélec, au cœur du 8e arrondissement de Paris.📍 8 rue Jean Goujon, Paris 8e\n📅 Mardi ...
URL:https://association.centralesupelec-alumni.com/fr/event/soiree-d-inauguration-des-nouveaux-locaux/2025/09/30/9233
BEGIN:VALARM
TRIGGER:-P0DT1H0M0S
ACTION:DISPLAY
END:VALARM
END:VEVENT
END:VCALENDAR