BEGIN:VCALENDAR
VERSION:2.0
PRODID:-//hacksw/handcal//NONSGML v1.0//EN
BEGIN:VEVENT
DTSTART:20250717T163000Z
DTEND:20250717T173000Z
LOCATION:Péniche La Barge \n15 Quai du Général Sarrail \n69006 LYON
ORGANIZER;CN=Géraldine Dupasquier - Lyon (CSA):MAILTO:geraldine.dupasquier@centraliens.net
SUMMARY:【Afterwork sur Rhône】sur la péniche LA BARGE (Lyon 6)  17 juillet 18h30
DESCRIPTION:\nL' Afterwork embarque exceptionnellement sur \nLa Péniche La Barge\nSur les berges du Rhône \nFace au 15 Quai Général Sarrail \n69006 LyonMétro : Cordeliers / Place GuichardParking à proximité : LPA...
URL:https://association.centralesupelec-alumni.com/fr/group/lyon-csa/299/calendar/-afterwork-sur-rhone-sur-la-peniche-la-barge-lyon-6-17-juillet-18h30/2025/07/17/9232
BEGIN:VALARM
TRIGGER:-P0DT1H0M0S
ACTION:DISPLAY
END:VALARM
END:VEVENT
END:VCALENDAR