BEGIN:VCALENDAR
VERSION:2.0
PRODID:-//hacksw/handcal//NONSGML v1.0//EN
BEGIN:VEVENT
DTSTART:20250920T060000Z
DTEND:20250920T160000Z
LOCATION:Campus de Paris - Saclay \n3, Rue Joliot Curie \n91190 GIF-SUR-YVETTE
ORGANIZER;CN=CentraleSupélec Alumni:MAILTO:csa-alumni@centralesupelec-alumni.com
SUMMARY:ROCS 2025 (Rencontre Omnisport CentraleSupélec)
DESCRIPTION: Rencontre Omnisports de CentraleSupélec (ROCS)\nSamedi 20 septembre\nCampus de Paris - Saclay\nCette page d'inscription est réservée aux diplômé(e)s. \nSi vous êtes étudiant(e)s, merci de vous...
URL:https://association.centralesupelec-alumni.com/fr/event/rocs-2025-rencontre-omnisport-centralesupelec/2025/09/20/9219
BEGIN:VALARM
TRIGGER:-P0DT1H0M0S
ACTION:DISPLAY
END:VALARM
END:VEVENT
END:VCALENDAR