BEGIN:VCALENDAR
VERSION:2.0
PRODID:-//hacksw/handcal//NONSGML v1.0//EN
BEGIN:VEVENT
DTSTART:20250701T170000Z
DTEND:20250701T220000Z
LOCATION:Louie \n13-15, West Street \nWC2H 9NE LONDON
ORGANIZER;CN=Brice Benoliel:MAILTO:brice.benoliel@centraliens.net
SUMMARY:""Summer Breeze" - CentraleSupélec - ESSEC - Inter School / Investment Banking and Capital Markets
DESCRIPTION: In partnership with Essec Finance Club we are delighted to invite you to CentraleSupélec - ESSEC - inter-school and university networking evening, taking place on Tuesday, 1st July 2025. Join us in...
URL:https://association.centralesupelec-alumni.com/fr/event/-summer-breeze-centralesupelec-essec-inter-school-investment-banking-and-capital-markets/2025/07/01/9212
BEGIN:VALARM
TRIGGER:-P0DT1H0M0S
ACTION:DISPLAY
END:VALARM
END:VEVENT
END:VCALENDAR