BEGIN:VCALENDAR
VERSION:2.0
PRODID:-//hacksw/handcal//NONSGML v1.0//EN
BEGIN:VEVENT
DTSTART:20250703T170000Z
DTEND:20250703T200000Z
LOCATION:Levrette Café \n30, Quai Fernand Crouan \n44200 NANTES
ORGANIZER;CN=Stéphane Aubet - Ouest-Atlantique (CSA):MAILTO:stephane@aubet.com
SUMMARY:Echanges&Réseaux: Une soirée pour profiter de l’été !
DESCRIPTION:Chers Alumni, Echanges et Réseaux célèbre l'été. Cette fois, on range les slides, on oublie les conférences… et on profite tout simplement ! Avant que chacun ne parte vers d’autres horizons pour les...
URL:https://association.centralesupelec-alumni.com/fr/group/ouest-atlantique-csa/297/calendar/echanges-reseaux-une-soiree-pour-profiter-de-l-ete/2025/07/03/9202
BEGIN:VALARM
TRIGGER:-P0DT1H0M0S
ACTION:DISPLAY
END:VALARM
END:VEVENT
END:VCALENDAR