BEGIN:VCALENDAR
VERSION:2.0
PRODID:-//hacksw/handcal//NONSGML v1.0//EN
BEGIN:VEVENT
DTSTART:20250704T110000Z
DTEND:20250704T120000Z
LOCATION:
ORGANIZER;CN=Jean-Christophe Strich - Repreneurs (CSA):MAILTO:jc.strich@free.fr
SUMMARY:Repreneurs : Campagne BOOK REPRENEURS HEC - Eté 2025 [2ème rappel]
DESCRIPTION:Cher Camarade Repreneur de CentraleSupelec Alumni,  \nTu souhaites gagner en visibilité dans ton projet de reprise? Quoi de mieux que d'intégrer ta Fiche de Cadrage dans la prochaine édition duBook...
URL:https://association.centralesupelec-alumni.com/fr/group/repreneurs-csa/331/calendar/repreneurs-campagne-book-repreneurs-hec-ete-2025-2eme-rappel/2025/07/04/9198
BEGIN:VALARM
TRIGGER:-P0DT1H0M0S
ACTION:DISPLAY
END:VALARM
END:VEVENT
END:VCALENDAR