BEGIN:VCALENDAR
VERSION:2.0
PRODID:-//hacksw/handcal//NONSGML v1.0//EN
BEGIN:VEVENT
DTSTART:20250626T103000Z
DTEND:20250626T113000Z
LOCATION:https://us02web.zoom.us/j/85311478123
ORGANIZER;CN=Jacqueline Pasdeloup:MAILTO:jacqueline@asso-supelec.org
SUMMARY:Alumni Summer Session | Carrière - Masterclass « How to Balance our Career between Meaning & Performance ? » / EN ANGLAIS UNIQUEMENT
DESCRIPTION: EN ANGLAIS UNIQUEMENT\nL'EDHEC Career Center for life invites you to participate to this masterclass : How to Balance our Career between Meaning & Performance?\n➡️ Are you seeking to evolve in your...
URL:https://association.centralesupelec-alumni.com/fr/event/alumni-summer-session-carriere-masterclass-how-to-balance-our-career-between-meaning-performance-en-anglais-uniquement/2025/06/26/9187
BEGIN:VALARM
TRIGGER:-P0DT1H0M0S
ACTION:DISPLAY
END:VALARM
END:VEVENT
END:VCALENDAR