BEGIN:VCALENDAR
VERSION:2.0
PRODID:-//hacksw/handcal//NONSGML v1.0//EN
BEGIN:VEVENT
DTSTART:20250625T160000Z
DTEND:20250625T193000Z
LOCATION:
ORGANIZER;CN=Jacqueline Pasdeloup:MAILTO:jacqueline@asso-supelec.org
SUMMARY:[ANNULÉ] Atelier carrière  « Trouver & renforcer son style de management »
DESCRIPTION:\nANNULÉ\nENSTA Alumni organise, le mercredi 25 juin à partir de 18h à IESF (75008 Paris), un atelier carrière "Trouver & renforcer son style de management", animé par Hélène GUILLET (ENSTA 2007). Il ...
URL:https://association.centralesupelec-alumni.com/fr/event/-annule-atelier-carriere-trouver-renforcer-son-style-de-management/2025/06/25/9186
BEGIN:VALARM
TRIGGER:-P0DT1H0M0S
ACTION:DISPLAY
END:VALARM
END:VEVENT
END:VCALENDAR