BEGIN:VCALENDAR
VERSION:2.0
PRODID:-//hacksw/handcal//NONSGML v1.0//EN
BEGIN:VEVENT
DTSTART:20250624T103000Z
DTEND:20250624T113000Z
LOCATION:https://eu.bbcollab.com/guest/ad81c5501b504805957e6513606b8d73
ORGANIZER;CN=Jacqueline Pasdeloup:MAILTO:jacqueline@asso-supelec.org
SUMMARY:Alumni Summer Session | Carrière - Webinaire « Trouver son équilibre émotionnel pour agir avec impact »
DESCRIPTION:L'EDHEC Career Centre for life t'invite à participer au webinaire : Trouver son  équilibre émotionnel pour agir avec impact\nCe webinaire d'une heure te propose de mieux comprendre le fonctionnement...
URL:https://association.centralesupelec-alumni.com/fr/event/alumni-summer-session-carriere-webinaire-trouver-son-equilibre-emotionnel-pour-agir-avec-impact/2025/06/24/9185
BEGIN:VALARM
TRIGGER:-P0DT1H0M0S
ACTION:DISPLAY
END:VALARM
END:VEVENT
END:VCALENDAR