BEGIN:VCALENDAR
VERSION:2.0
PRODID:-//hacksw/handcal//NONSGML v1.0//EN
BEGIN:VEVENT
DTSTART:20250628T170000Z
DTEND:20250628T200000Z
LOCATION:Maison Grand Large \n60, Rue Francisco Ferrer \n69150 Décines
ORGANIZER;CN=Quentin Trouillet - Lyon (CSA):MAILTO:quentin.trouillet@gmail.com
SUMMARY:Dîner à la Maison Grand Large à Décines - post Kayak Académie #3
DESCRIPTION:Chères et chers camarades,\nNous avons le plaisir de vous convier à un dîner convivial dans un cadre chaleureux et au bord de l’eau pour cette CSummer Week 2025.📍 Maison Grand Large\n60 rue Francisco ...
URL:https://association.centralesupelec-alumni.com/fr/group/lyon-csa/299/calendar/diner-a-la-maison-grand-large-a-decines-post-kayak-academie-3/2025/06/28/9179
BEGIN:VALARM
TRIGGER:-P0DT1H0M0S
ACTION:DISPLAY
END:VALARM
END:VEVENT
END:VCALENDAR