BEGIN:VCALENDAR
VERSION:2.0
PRODID:-//hacksw/handcal//NONSGML v1.0//EN
BEGIN:VEVENT
DTSTART:20250623T110000Z
DTEND:20250623T180000Z
LOCATION:SQUARE Brussels Meeting Centre \nMont des Arts \n1000 BRUXELLES
ORGANIZER;CN=Frédéric Misheletti - Belgique (CSA):MAILTO:frederic.misheletti@gmail.com
SUMMARY:FRENCH TECH  SOVEREIGNTY SUMMIT BRUSSELS
DESCRIPTION:\nInscription Ready to unite with diverse stakeholders to tackle digital challenges and explore solutions that will shape a more powerful Europe? Meet our confirmed speakers:Bart Becks - Serial...
URL:https://association.centralesupelec-alumni.com/fr/group/belgique-csa/55/calendar/french-tech-sovereignty-summit-brussels/2025/06/23/9178
BEGIN:VALARM
TRIGGER:-P0DT1H0M0S
ACTION:DISPLAY
END:VALARM
END:VEVENT
END:VCALENDAR