BEGIN:VCALENDAR
VERSION:2.0
PRODID:-//hacksw/handcal//NONSGML v1.0//EN
BEGIN:VEVENT
DTSTART:20250627T100000Z
DTEND:20250627T120000Z
LOCATION:Clos des oliviers  \n3, Rue de l'Aven \n34980 SAINT-GELY-DU-FESC
ORGANIZER;CN=Dominique Launay - Occitanie-Méditerranée (CSA):MAILTO:dominique.launay@centraliens.net
SUMMARY:CS SUMMER WEEK
DESCRIPTION:Cher (chère) camarade,\ndu 22 au 29 juin prochain,\nCENTRALESUPELEC ALUMNI\nfête la CSummer Week 2025 dans le monde entier\nIci, en Occitanie-Méditerranée, nous proposons à tous les membres de...
URL:https://association.centralesupelec-alumni.com/fr/group/occitanie-me-diterranee-csa/305/calendar/cs-summer-week/2025/06/27/9176
BEGIN:VALARM
TRIGGER:-P0DT1H0M0S
ACTION:DISPLAY
END:VALARM
END:VEVENT
END:VCALENDAR