BEGIN:VCALENDAR
VERSION:2.0
PRODID:-//hacksw/handcal//NONSGML v1.0//EN
BEGIN:VEVENT
DTSTART:20250704T100000Z
DTEND:20250704T140000Z
LOCATION:Villeurbanne
ORGANIZER;CN=David Tavoularis - Lyon (CSA):MAILTO:david.tavoularis@mycom-osi.com
SUMMARY:Visite du chantier du nouveau pont Croix Luizet dédié au tramway T9 et aux modes doux - Vendredi 4 juillet après-midi
DESCRIPTION:La future ligne T9 permettra de relier le pôle d’échanges multimodal de Vaulx-en-Velin-La Soie à Charpennes, grâce à 8,8 km de voie nouvelle et la création de 12 stations. Un chantier dans le chantier...
URL:https://association.centralesupelec-alumni.com/fr/group/lyon-csa/299/calendar/visite-du-chantier-du-nouveau-pont-croix-luizet-dedie-au-tramway-t9-et-aux-modes-doux-vendredi-4-juillet-apres-midi/2025/07/04/9175
BEGIN:VALARM
TRIGGER:-P0DT1H0M0S
ACTION:DISPLAY
END:VALARM
END:VEVENT
END:VCALENDAR