BEGIN:VCALENDAR
VERSION:2.0
PRODID:-//hacksw/handcal//NONSGML v1.0//EN
BEGIN:VEVENT
DTSTART:20250628T090000Z
DTEND:20250628T160000Z
LOCATION:Les Jardins d'Albertas \nD8N \n13320 BOUC-BEL-AIR
ORGANIZER;CN=CentraleSupélec Alumni:MAILTO:csa-alumni@centralesupelec-alumni.com
SUMMARY:CSummer Week Provence aux Jardins d'Albertas avec l'évènement "Danse au Jardin"
DESCRIPTION:\nLa CSummer Week, grand événement annuel de la communauté des Alumni CentraleSupélec du monde entier, se déroule cette année du 22 au 29 juin.\nLe groupe CSA Provence te propose de participer à cette...
URL:https://association.centralesupelec-alumni.com/fr/event/csummer-week-provence-aux-jardins-d-albertas-avec-l-evenement-danse-au-jardin/2025/06/28/9168
BEGIN:VALARM
TRIGGER:-P0DT1H0M0S
ACTION:DISPLAY
END:VALARM
END:VEVENT
END:VCALENDAR