BEGIN:VCALENDAR
VERSION:2.0
PRODID:-//hacksw/handcal//NONSGML v1.0//EN
BEGIN:VEVENT
DTSTART:20250627T070000Z
DTEND:20250627T103000Z
LOCATION:Maison des Centraliens (5e étage) \n8, Rue Jean Goujon \n75008 PARIS
ORGANIZER;CN=CSA Carrières:MAILTO:carrieres@centraliens.net
SUMMARY:Atelier: Identifier et se réapproprier ses solidités (27 juin et 3 juillet)
DESCRIPTION:\nEN PRESENTIEL UNIQUEMENTLES DEUX ATELIERS SONT INDISSOCIABLES;S'INSCRIRE SUR L'ATELIER DU 27 JUIN\nFormat2 demi-journées pour 8 personnes les 27 juin (matin 9h-12h) et 3 juillet 2025 (après-midi...
URL:https://association.centralesupelec-alumni.com/fr/event/atelier-identifier-et-se-reapproprier-ses-solidites-27-juin-et-3-juillet/2025/06/27/9167
BEGIN:VALARM
TRIGGER:-P0DT1H0M0S
ACTION:DISPLAY
END:VALARM
END:VEVENT
END:VCALENDAR