BEGIN:VCALENDAR
VERSION:2.0
PRODID:-//hacksw/handcal//NONSGML v1.0//EN
BEGIN:VEVENT
DTSTART:20250927T080000Z
DTEND:20250927T150000Z
LOCATION:Maison rouge Saint Jean du Gard \n35, Grand Rue \n30270 SAINT-JEAN-DU-GARD
ORGANIZER;CN=Dominique Launay - Occitanie-Méditerranée (CSA):MAILTO:dominique.launay@centraliens.net
SUMMARY:Patrimoine Cévenol d'hier et d'aujourd'hui
DESCRIPTION:Une visite qui te permettra de faire le lien entre les activités historiques des Cévennes et l'industrie moderne qui développe!Nous visiterons d'abord à Saint Jean du Gard le Musée Maison Rouge Il...
URL:https://association.centralesupelec-alumni.com/fr/group/occitanie-me-diterranee-csa/305/calendar/patrimoine-cevenol-d-hier-et-d-aujourd-hui/2025/09/27/9166
BEGIN:VALARM
TRIGGER:-P0DT1H0M0S
ACTION:DISPLAY
END:VALARM
END:VEVENT
END:VCALENDAR