BEGIN:VCALENDAR
VERSION:2.0
PRODID:-//hacksw/handcal//NONSGML v1.0//EN
BEGIN:VEVENT
DTSTART:20251011T100000Z
DTEND:20251011T160000Z
LOCATION:Nantes (44)
ORGANIZER;CN=Claire Delalande - Transport et Mobilité (CSA):MAILTO:claire.delalande@centraliens.net
SUMMARY:Visite à Nantes (44): NAVIBUS Hydrogène de la SEMITAN le Samedi 11 Octobre
DESCRIPTION:Le Groupes  CSA Transport et Mobilité et Ouest Atlantique vous convient à un évènement sur Nantes le samedi 11 octobre 2025: Visite du NAVIBUS Hydrogène de la SEMITAN (Société d'économie mixte des...
URL:https://association.centralesupelec-alumni.com/fr/group/transport-et-mobilite-csa/337/calendar/visite-a-nantes-44-navibus-hydrogene-de-la-semitan-le-samedi-11-octobre/2025/10/11/9153
BEGIN:VALARM
TRIGGER:-P0DT1H0M0S
ACTION:DISPLAY
END:VALARM
END:VEVENT
END:VCALENDAR