BEGIN:VCALENDAR
VERSION:2.0
PRODID:-//hacksw/handcal//NONSGML v1.0//EN
BEGIN:VEVENT
DTSTART:20250623T173000Z
DTEND:20250623T193000Z
LOCATION:Amphithéatre BCG \n75, Avenue de la Grande Armée \n75016 PARIS
ORGANIZER;CN=Christian Ledoux - Automobile (CSA):MAILTO:christian.ledoux64@outlook.fr
SUMMARY:Des lignes de code aux lignes de conduite: l'IA reinvente l'auto
DESCRIPTION:Cycle de Conférence\n« L'automobile de demain, la convergence de si nombreuses attentes »Débat-Conférence n°5\n"Des lignes de code aux lignes de conduite :\nl'IA réinvente l'auto "Luc JULIA, Directeur...
URL:https://association.centralesupelec-alumni.com/fr/group/automobile-csa/317/calendar/des-lignes-de-code-aux-lignes-de-conduite-l-ia-reinvente-l-auto/2025/06/23/9152
BEGIN:VALARM
TRIGGER:-P0DT1H0M0S
ACTION:DISPLAY
END:VALARM
END:VEVENT
END:VCALENDAR