BEGIN:VCALENDAR
VERSION:2.0
PRODID:-//hacksw/handcal//NONSGML v1.0//EN
BEGIN:VEVENT
DTSTART:20250709T170000Z
DTEND:20250709T190000Z
LOCATION:Maison CentraleSupélec \n8, Rue Jean Goujon \n75008 PARIS
ORGANIZER;CN=CentraleSupélec Alumni:MAILTO:csa-alumni@centralesupelec-alumni.com
SUMMARY:Conférence “Intelligence Artificielle : au-delà des mythes, au cœur des usages”
DESCRIPTION:CONFÉRENCE« Intelligence Artificielle : au-delà des mythes, au cœur des usages »Comprendre, explorer, questionner l’IA d’aujourd’hui pour construire celle de demain\nL’Intelligence Artificielle est...
URL:https://association.centralesupelec-alumni.com/fr/event/conference-intelligence-artificielle-au-dela-des-mythes-au-coeur-des-usages/2025/07/09/9147
BEGIN:VALARM
TRIGGER:-P0DT1H0M0S
ACTION:DISPLAY
END:VALARM
END:VEVENT
END:VCALENDAR