BEGIN:VCALENDAR
VERSION:2.0
PRODID:-//hacksw/handcal//NONSGML v1.0//EN
BEGIN:VEVENT
DTSTART:20250625T100000Z
DTEND:20250625T124500Z
LOCATION:EatGoodPlace \n4 Chome-42-42 Higashi-Ikebukuro, Toshima City, Tokyo, Japan \n170-0013 TOSHIMA CITY
ORGANIZER;CN=Laurent Wolff:MAILTO:laurent.wolff@centraliens.net
SUMMARY:CSummer Week Tokyo
DESCRIPTION:CS Summer Week in Tokyo / Inter-Ecoles gathering on June 25Dear all, on June 25 (Wednesday), from 7pm, we will organize a gathering with Essec, HEC, Sciences Po, and Polytechnique, during the...
URL:https://association.centralesupelec-alumni.com/fr/event/csummer-week-tokyo/2025/06/25/9145
BEGIN:VALARM
TRIGGER:-P0DT1H0M0S
ACTION:DISPLAY
END:VALARM
END:VEVENT
END:VCALENDAR