BEGIN:VCALENDAR
VERSION:2.0
PRODID:-//hacksw/handcal//NONSGML v1.0//EN
BEGIN:VEVENT
DTSTART:20250531T100000Z
DTEND:20250531T124500Z
LOCATION:Eat Good Place \nHigashi Ikebukuro 4-42
ORGANIZER;CN=Laurent Wolff - Japon (CSA):MAILTO:laurent.wolff@centraliens.net
SUMMARY:Tokyo CSummer Week event
DESCRIPTION:Prochain inter-écoles le 25 juin 2025, à partir de 19h, organisé par CentraleSupélecAlumni Japon dans le cadre de la CSummerWeek, à Tokyo, au EatGoodPlace. Avec la participation également de l'Essec, ...
URL:https://association.centralesupelec-alumni.com/fr/group/japon-csa/237/calendar/tokyo-csummer-week-event/2025/05/31/9144
BEGIN:VALARM
TRIGGER:-P0DT1H0M0S
ACTION:DISPLAY
END:VALARM
END:VEVENT
END:VCALENDAR