BEGIN:VCALENDAR
VERSION:2.0
PRODID:-//hacksw/handcal//NONSGML v1.0//EN
BEGIN:VEVENT
DTSTART:20260314T230000Z
DTEND:20260329T215500Z
LOCATION:CHINE
ORGANIZER;CN=Jean-Jacques Henry - CSA Ile de France:MAILTO:jjghenry@gmail.com
SUMMARY:VOYAGE EN CHINE
DESCRIPTION:                                            Circuit du 15 au 29 mars 2026 en Chine                                                 Inscrivez-vous avant le 8 juin 2025\nLe circuit  commence àPékin.Vous...
URL:https://association.centralesupelec-alumni.com/fr/group/csa-ile-de-france/587/calendar/voyage-en-chine/2026/03/15/9139
BEGIN:VALARM
TRIGGER:-P0DT1H0M0S
ACTION:DISPLAY
END:VALARM
END:VEVENT
END:VCALENDAR