BEGIN:VCALENDAR
VERSION:2.0
PRODID:-//hacksw/handcal//NONSGML v1.0//EN
BEGIN:VEVENT
DTSTART:20250629T113000Z
DTEND:20250629T153000Z
LOCATION:Hyde Park, Physical Energy Statue \nKensington Palace Gardens \nW2 4RU LONDON
ORGANIZER;CN=Christophe Wakim - Grande-Bretagne (CSA):MAILTO:christophe.wakim@gmail.com
SUMMARY:Pique Nique CentraleSupélec Alumni à Londres, dimanche 29 juin 2025
DESCRIPTION:Nous avons le plaisir de vous inviter à un pique-nique organisé par le Groupe CentraleSupélec Alumni Grande-Bretagne, qui se tiendra le dimanche 29 juin 2025 à Hyde Park, Londres.Détails de...
URL:https://association.centralesupelec-alumni.com/fr/group/grande-bretagne-csa/265/calendar/pique-nique-centralesupelec-alumni-a-londres-dimanche-29-juin-2025/2025/06/29/9122
BEGIN:VALARM
TRIGGER:-P0DT1H0M0S
ACTION:DISPLAY
END:VALARM
END:VEVENT
END:VCALENDAR