BEGIN:VCALENDAR
VERSION:2.0
PRODID:-//hacksw/handcal//NONSGML v1.0//EN
BEGIN:VEVENT
DTSTART:20250626T160000Z
DTEND:20250626T180000Z
LOCATION:ENSAM, Salle La Modèlerie \n2 Cours des Arts et Métiers \n13617 AIX-EN-PROVENCE
ORGANIZER;CN=Philippe Cabrit - Provence (CSA):MAILTO:philippe.cabrit@centralesupelec-alumni.com
SUMMARY:Le 5ème examen des centrales nucléaires de 900MWe - L'adaptation au changement climatique
DESCRIPTION:Jeudi 26 juin à Aix\n Le 5ème réexamen des centrales nucléaires de 900MWe – L’adaptation au changement climatique\n Conférence avec Marjorie Guillot, cheffe de projet VD5 chez EDF­Alors que les 32...
URL:https://association.centralesupelec-alumni.com/fr/group/provence-csa/347/calendar/le-5eme-examen-des-centrales-nucleaires-de-900mwe-l-adaptation-au-changement-climatique/2025/06/26/9117
BEGIN:VALARM
TRIGGER:-P0DT1H0M0S
ACTION:DISPLAY
END:VALARM
END:VEVENT
END:VCALENDAR