BEGIN:VCALENDAR
VERSION:2.0
PRODID:-//hacksw/handcal//NONSGML v1.0//EN
BEGIN:VEVENT
DTSTART:20250701T170000Z
DTEND:20250701T190000Z
LOCATION:Co’effy \n22, Rue Thiers \n38000 GRENOBLE
ORGANIZER;CN=Philippe Chinkirch - Dauphiné - Savoie (CSA):MAILTO:philippe.chinkirch@centraliens.net
SUMMARY:Club entrepreneuriat
DESCRIPTION:Tu t’intéresses à l’entreprenariat, à la création, au développement ou à la reprise d’entreprise ? Tu souhaites étendre ton réseau professionnel ou tes connaissances dans ce domaine ? Tu souhaites...
URL:https://association.centralesupelec-alumni.com/fr/group/dauphine-savoie-csa/307/calendar/club-entrepreneuriat/2025/07/01/9107
BEGIN:VALARM
TRIGGER:-P0DT1H0M0S
ACTION:DISPLAY
END:VALARM
END:VEVENT
END:VCALENDAR