BEGIN:VCALENDAR
VERSION:2.0
PRODID:-//hacksw/handcal//NONSGML v1.0//EN
BEGIN:VEVENT
DTSTART:20250529T150000Z
DTEND:20250529T193500Z
LOCATION:Radisson Blu Média City  \nKing Salman Bin Abdulaziz Al Saud Street
ORGANIZER;CN=Rémy VILLE MARIE:MAILTO:remyville@gmail.com
SUMMARY:Afterwork Inter-Alumni
DESCRIPTION:Notre get together ce mois ci sera organisé conjointement avec les alumni des autres grandes écoles HEC, ESSEC, ESCP, X, Mines, Ponts, Science Po…Hate de vous voir !Merci de confirmer votre...
URL:https://association.centralesupelec-alumni.com/fr/event/afterwork-inter-alumni/2025/05/29/9097
BEGIN:VALARM
TRIGGER:-P0DT1H0M0S
ACTION:DISPLAY
END:VALARM
END:VEVENT
END:VCALENDAR