BEGIN:VCALENDAR
VERSION:2.0
PRODID:-//hacksw/handcal//NONSGML v1.0//EN
BEGIN:VEVENT
DTSTART:20250624T173000Z
DTEND:20250624T200000Z
LOCATION:Maison CentraleSupélec \n8, Rue Jean Goujon \n75008 PARIS
ORGANIZER;CN=CentraleSupélec Alumni:MAILTO:csa-alumni@centralesupelec-alumni.com
SUMMARY:Cocktail de l'Assemblée Générale Ordinaire
DESCRIPTION:Nous avons le plaisir de vous inviter au cocktail qui suivra notre Assemblée Générale Ordinaire du 24 juin 2025, dans le salon Empire (au 2ème étage).\nCet évènement est réservé exclusivement aux...
URL:https://association.centralesupelec-alumni.com/fr/event/cocktail-de-l-assemblee-generale-ordinaire/2025/06/24/9092
BEGIN:VALARM
TRIGGER:-P0DT1H0M0S
ACTION:DISPLAY
END:VALARM
END:VEVENT
END:VCALENDAR