BEGIN:VCALENDAR
VERSION:2.0
PRODID:-//hacksw/handcal//NONSGML v1.0//EN
BEGIN:VEVENT
DTSTART:20251006T081500Z
DTEND:20251006T100000Z
LOCATION:Hôtel de Matignon \n57, Rue de Varenne \n75007 PARIS
ORGANIZER;CN=Jacqueline Pasdeloup - CSA Ile de France:MAILTO:jacqueline@asso-supelec.org
SUMMARY:Visite guidée de l'hôtel de Matignon : reportée par Matignon
DESCRIPTION:Droits photo : Hôtel de Matignon\nL'hôtel de Matignon est, à l’origine, la demeure des Princes de Monaco.\nCette résidence de travail des premiers ministres connaît des péripéties parfois drôles,...
URL:https://association.centralesupelec-alumni.com/fr/group/csa-ile-de-france/587/calendar/visite-guidee-de-l-hotel-de-matignon-reportee-par-matignon/2025/10/06/9088
BEGIN:VALARM
TRIGGER:-P0DT1H0M0S
ACTION:DISPLAY
END:VALARM
END:VEVENT
END:VCALENDAR