BEGIN:VCALENDAR
VERSION:2.0
PRODID:-//hacksw/handcal//NONSGML v1.0//EN
BEGIN:VEVENT
DTSTART:20250529T121500Z
DTEND:20250529T140000Z
LOCATION:restaurant Reñé 1910  \n362, Carrer del Consell de Cent \n08009 BARCELONA
ORGANIZER;CN=Pascal Bourbon - Espagne (CSA):MAILTO:pascal.bourbon@a2bi.com
SUMMARY:Déjeuner à Barcelone
DESCRIPTION:Un déjeuner à Barcelone, le jeudi 29 mai à 14h15 au restaurant Reñé 1910 (menu 19,90 euros), Calle Consejo de Ciento 362 – 08009 Barcelona. Je m'inscris Merci de confirmer votre participation à l’un...
URL:https://association.centralesupelec-alumni.com/fr/group/espagne-csa/57/calendar/dejeuner-a-barcelone/2025/05/29/9083
BEGIN:VALARM
TRIGGER:-P0DT1H0M0S
ACTION:DISPLAY
END:VALARM
END:VEVENT
END:VCALENDAR