BEGIN:VCALENDAR
VERSION:2.0
PRODID:-//hacksw/handcal//NONSGML v1.0//EN
BEGIN:VEVENT
DTSTART:20250517T070000Z
DTEND:20250517T150000Z
LOCATION:Amphithéâtre Descartes Sorbonne Université \n17, Rue de la Sorbonne \n75005 PARIS
ORGANIZER;CN=CentraleSupélec Alumni:MAILTO:csa-alumni@centralesupelec-alumni.com
SUMMARY:Journée d'hommage à Pierre Saurel (ECP 92)
DESCRIPTION:Pierre SAUREL  (ECP 92)1969-2022 \nAgrégé de mathématiquesDocteur en épistémologieMaître de conférences en sciences cognitives à Sorbonne Université HDR en Intelligence ArtificielleAvocat au bureau de...
URL:https://association.centralesupelec-alumni.com/fr/event/journee-d-hommage-a-pierre-saurel-ecp-92/2025/05/17/9074
BEGIN:VALARM
TRIGGER:-P0DT1H0M0S
ACTION:DISPLAY
END:VALARM
END:VEVENT
END:VCALENDAR