BEGIN:VCALENDAR
VERSION:2.0
PRODID:-//hacksw/handcal//NONSGML v1.0//EN
BEGIN:VEVENT
DTSTART:20250513T110000Z
DTEND:20250513T120000Z
LOCATION:
ORGANIZER;CN=Jacqueline Pasdeloup:MAILTO:jacqueline@asso-supelec.org
SUMMARY:Développer sa visibilité et son employabilité grâce au réseau
DESCRIPTION:\nVous souhaitez comprendre et apprendre la démarche réseau ? Cet atelier est fait pour vous !La démarche réseau est centrale dans la recherche d’emploi, elle représente 60 à 80 % de votre accès au...
URL:https://association.centralesupelec-alumni.com/fr/event/developper-sa-visibilite-et-son-employabilite-grace-au-reseau/2025/05/13/9072
BEGIN:VALARM
TRIGGER:-P0DT1H0M0S
ACTION:DISPLAY
END:VALARM
END:VEVENT
END:VCALENDAR