BEGIN:VCALENDAR
VERSION:2.0
PRODID:-//hacksw/handcal//NONSGML v1.0//EN
BEGIN:VEVENT
DTSTART:20250524T083000Z
DTEND:20250524T130000Z
LOCATION:Théatre-Musée Dali de Figueres
ORGANIZER;CN=Dominique Launay - Occitanie-Méditerranée (CSA):MAILTO:dominique.launay@centraliens.net
SUMMARY:VISITE DU THEATRE-MUSEE DALI A FIGUERAS
DESCRIPTION:Une visite en Espagne à laquelle sont invités nos camarades d'Occitanie Midi-Pyrénées et d'EspagneNous visiterons avec un guide le théâtre-musée Dali puis nous nous promènerons dans Figueres avant de ...
URL:https://association.centralesupelec-alumni.com/fr/group/occitanie-me-diterranee-csa/305/calendar/visite-du-theatre-musee-dali-a-figueras/2025/05/24/9070
BEGIN:VALARM
TRIGGER:-P0DT1H0M0S
ACTION:DISPLAY
END:VALARM
END:VEVENT
END:VCALENDAR