BEGIN:VCALENDAR
VERSION:2.0
PRODID:-//hacksw/handcal//NONSGML v1.0//EN
BEGIN:VEVENT
DTSTART:20250522T073000Z
DTEND:20250522T140000Z
LOCATION:Au bar à bières \n1 rue de la gare \n94470 Boissy Saint Léger
ORGANIZER;CN=Jacqueline Pasdeloup - CSA Ile de France:MAILTO:jacqueline@asso-supelec.org
SUMMARY:Randonnée :  « De Boissy-Saint Léger à Brunoy »
DESCRIPTION:\nRendez-vous : À 9 h 30 au bar « Au bar à bières », situé à gauche devant la gare du RER A de Boissy-St Léger.\nFin de la randonnée aux alentours de 16 h, à la station RER D de Brunoy.\nDistance :...
URL:https://association.centralesupelec-alumni.com/fr/group/csa-ile-de-france/587/calendar/randonnee-de-boissy-saint-leger-a-brunoy/2025/05/22/9069
BEGIN:VALARM
TRIGGER:-P0DT1H0M0S
ACTION:DISPLAY
END:VALARM
END:VEVENT
END:VCALENDAR