BEGIN:VCALENDAR
VERSION:2.0
PRODID:-//hacksw/handcal//NONSGML v1.0//EN
BEGIN:VEVENT
DTSTART:20250512T060000Z
DTEND:20250518T170000Z
LOCATION:https://forms.gle/A98RgPxx7H5yhKxP6
ORGANIZER;CN=Patrick Coppin:MAILTO:patrick.coppin@gmail.com
SUMMARY:Decouvre le coaching, grace à la SEMAINE DU COACHING
DESCRIPTION:La Semaine du Coaching, organisée par l'ICF (International Coaching Federation) a pour but de te faire découvrir l’accompagnement en coaching professionnel, et d’en expérimenter les bénéfices et les...
URL:https://association.centralesupelec-alumni.com/fr/event/decouvre-le-coaching-grace-a-la-semaine-du-coaching/2025/05/12/9066
BEGIN:VALARM
TRIGGER:-P0DT1H0M0S
ACTION:DISPLAY
END:VALARM
END:VEVENT
END:VCALENDAR