BEGIN:VCALENDAR
VERSION:2.0
PRODID:-//hacksw/handcal//NONSGML v1.0//EN
BEGIN:VEVENT
DTSTART:20250524T084500Z
DTEND:20250524T140000Z
LOCATION:Théatre-Musée Dali de Figueres \n5, Plaça Gala i Salvador Dalí \n17600 FIGUERES
ORGANIZER;CN=Dominique Launay:MAILTO:dominique.launay@centraliens.net
SUMMARY:Musée Dali à FIGUERES (ES)
DESCRIPTION:Une visite en Espagne à laquelle sont invités nos camarades d'Occitanie Midi-PyrénéesNous visiterons avec un guide le théâtre-musée Dali puis nous nous promènerons dans Figueres avant de déjeuner au...
URL:https://association.centralesupelec-alumni.com/fr/event/musee-dali-a-figueres-es/2025/05/24/9049
BEGIN:VALARM
TRIGGER:-P0DT1H0M0S
ACTION:DISPLAY
END:VALARM
END:VEVENT
END:VCALENDAR