BEGIN:VCALENDAR
VERSION:2.0
PRODID:-//hacksw/handcal//NONSGML v1.0//EN
BEGIN:VEVENT
DTSTART:20250625T183000Z
DTEND:20250625T193000Z
LOCATION:https://kmeet.infomaniak.com/fppe6pmvc1akeac1opgjzaim
ORGANIZER;CN=Jacqueline Pasdeloup:MAILTO:jacqueline@asso-supelec.org
SUMMARY:Réunion d'information Trajectoire
DESCRIPTION:\nVotre contact CentraleSupélec Alumni pour toute question :\nJacqueline Pasdeloup : jacqueline.pasdeloup@centralesupelec-alumni.org
URL:https://association.centralesupelec-alumni.com/fr/event/reunion-d-information-trajectoire/2025/06/25/9044
BEGIN:VALARM
TRIGGER:-P0DT1H0M0S
ACTION:DISPLAY
END:VALARM
END:VEVENT
END:VCALENDAR