BEGIN:VCALENDAR
VERSION:2.0
PRODID:-//hacksw/handcal//NONSGML v1.0//EN
BEGIN:VEVENT
DTSTART:20250522T163000Z
DTEND:20250522T200000Z
LOCATION:Les Arncenaulx \n25, Cours Honoré d'Estienne d'Orves \n13001 MARSEILLE
ORGANIZER;CN=Philippe Cabrit - Provence (CSA):MAILTO:philippe.cabrit@centralesupelec-alumni.com
SUMMARY:La navigation, ses mystères et ses découvertes, de Noé au GPS avec JP Nerrière
DESCRIPTION:Conférence de Jean-Paul Nerrière,\n membre titulaire de l’Académie de Marine \n Jeudi 22 mai à 18h30\n à la librairie Les Arcenaulx, Marseille \nDETAILS ET INSCRIPTION\nSage vénéré de l’antiquité...
URL:https://association.centralesupelec-alumni.com/fr/group/provence-csa/347/calendar/la-navigation-ses-mysteres-et-ses-decouvertes-de-noe-au-gps-avec-jp-nerriere/2025/05/22/9038
BEGIN:VALARM
TRIGGER:-P0DT1H0M0S
ACTION:DISPLAY
END:VALARM
END:VEVENT
END:VCALENDAR