BEGIN:VCALENDAR
VERSION:2.0
PRODID:-//hacksw/handcal//NONSGML v1.0//EN
BEGIN:VEVENT
DTSTART:20250505T170000Z
DTEND:20250505T200000Z
LOCATION:Mashup Nantes \n63, Boulevard de la Prairie au Duc \n44200 NANTES
ORGANIZER;CN=Stéphane Aubet - Ouest-Atlantique (CSA):MAILTO:stephane@aubet.com
SUMMARY:E&R:Transition écologique : quelles cartes l'Europe peut-elle jouer face aux champions des Energies Fossiles ?
DESCRIPTION:Echanges&Réseaux vous propose une  conférence animée par Martin Larroque, jeune diplômé de l’ESPCI (l’école d’ingénieur aux 6 prix Nobel de Physique) et qui embraye l’année prochaine avec un double...
URL:https://association.centralesupelec-alumni.com/fr/group/ouest-atlantique-csa/297/calendar/e-r-transition-ecologique-quelles-cartes-l-europe-peut-elle-jouer-face-aux-champions-des-energies-fossiles/2025/05/05/9035
BEGIN:VALARM
TRIGGER:-P0DT1H0M0S
ACTION:DISPLAY
END:VALARM
END:VEVENT
END:VCALENDAR