BEGIN:VCALENDAR
VERSION:2.0
PRODID:-//hacksw/handcal//NONSGML v1.0//EN
BEGIN:VEVENT
DTSTART:20250522T163000Z
DTEND:20250522T180000Z
LOCATION:
ORGANIZER;CN=Jacqueline Pasdeloup:MAILTO:jacqueline@asso-supelec.org
SUMMARY:Rendez-vous Whats4u sur le thème « Évolutions et perspectives du secteur industriel »
DESCRIPTION:\nÉvolutions et perspectives du secteur industriel\nLes Rendez-Vous Whats4u conjuguent table ronde thématique et networking tous secteurs, pour un moment enrichissant et convivial inter-associations...
URL:https://association.centralesupelec-alumni.com/fr/event/rendez-vous-whats4u-sur-le-theme-evolutions-et-perspectives-du-secteur-industriel/2025/05/22/9032
BEGIN:VALARM
TRIGGER:-P0DT1H0M0S
ACTION:DISPLAY
END:VALARM
END:VEVENT
END:VCALENDAR