BEGIN:VCALENDAR
VERSION:2.0
PRODID:-//hacksw/handcal//NONSGML v1.0//EN
BEGIN:VEVENT
DTSTART:20250514T170000Z
DTEND:20250514T203000Z
LOCATION:Maison CentraleSupelec Alumni \n8 Rue Jean Goujon \n75008 PARIS
ORGANIZER;CN=Nita Hauchecorne - CentraleSupélec Numérique:MAILTO:nita.hauchecorne@gmail.com
SUMMARY:[REPORTE] De la tech à l'accompagnement de leaders, le parcours d'un centralien aventurier à découvrir
DESCRIPTION: - INSCRIPTIONS CLOSES EN ATTENDANT LA NOUVELLE DATELe comité de CentraleSupélec Numérique et son président Bruno Chollier ont le plaisir d’accueillir Yvan Wibaux (ECP 2007), orateur de notre prochain...
URL:https://association.centralesupelec-alumni.com/fr/group/centralesupelec-numerique/329/calendar/-reporte-de-la-tech-a-l-accompagnement-de-leaders-le-parcours-d-un-centralien-aventurier-a-decouvrir/2025/05/14/9029
BEGIN:VALARM
TRIGGER:-P0DT1H0M0S
ACTION:DISPLAY
END:VALARM
END:VEVENT
END:VCALENDAR