BEGIN:VCALENDAR
VERSION:2.0
PRODID:-//hacksw/handcal//NONSGML v1.0//EN
BEGIN:VEVENT
DTSTART:20251024T173000Z
DTEND:20251024T200000Z
LOCATION:Maison CentraleSupélec - Salon Empire - 2e étage \n8, Rue Jean Goujon \n75008 PARIS
ORGANIZER;CN=Jacqueline Pasdeloup - CSA Ile de France:MAILTO:jacqueline@asso-supelec.org
SUMMARY:Soirée Théâtre à la Maison CentraleSupélec « En fourrière » avec Gildas Merian (ECP 80). Une création saluée au Festival d’Avignon 2025
DESCRIPTION:Redécouvrez la Maison CentraleSupélec sous un nouveau jour !  Nous vous convions à une soirée exceptionnelle dans les Salons rénovés des 5e et 6e étages, récemment sublimés par d’importants travaux.Au...
URL:https://association.centralesupelec-alumni.com/fr/group/csa-ile-de-france/587/calendar/soiree-theatre-a-la-maison-centralesupelec-en-fourriere-avec-gildas-merian-ecp-80-une-creation-saluee-au-festival-d-avignon-2025/2025/10/24/9027
BEGIN:VALARM
TRIGGER:-P0DT1H0M0S
ACTION:DISPLAY
END:VALARM
END:VEVENT
END:VCALENDAR