BEGIN:VCALENDAR
VERSION:2.0
PRODID:-//hacksw/handcal//NONSGML v1.0//EN
BEGIN:VEVENT
DTSTART:20250531T100000Z
DTEND:20250531T110000Z
LOCATION:Vidéo conférence
ORGANIZER;CN=Bernard Depouilly - Management de Transition (CSA):MAILTO:bdepouilly@hotmail.com
SUMMARY:Enquête au sujet  de l'organisation d'une vidéo conférence avec Louis Dupont
DESCRIPTION:\n Bonsoir, \nCertains membres de CSMT résidants en Ile de France ont pu participer à un très intéressant Afterwork avec les membres du Cabinet Louis Dupont le 9/04/2025. Les membres de ce cabinet...
URL:https://association.centralesupelec-alumni.com/fr/group/management-de-transition-csa/467/calendar/enquete-au-sujet-de-l-organisation-d-une-video-conference-avec-louis-dupont/2025/05/31/9025
BEGIN:VALARM
TRIGGER:-P0DT1H0M0S
ACTION:DISPLAY
END:VALARM
END:VEVENT
END:VCALENDAR