BEGIN:VCALENDAR
VERSION:2.0
PRODID:-//hacksw/handcal//NONSGML v1.0//EN
BEGIN:VEVENT
DTSTART:20250523T164500Z
DTEND:20250523T200000Z
LOCATION:Maison CentraleSupélec \n8, Rue Jean Goujon \n75008 PARIS
ORGANIZER;CN=CentraleSupélec Alumni:MAILTO:csa-alumni@centralesupelec-alumni.com
SUMMARY:Soirée Tech & Start-up
DESCRIPTION:CentraleSupélec Alumni a le plaisir de vous convier à une soirée exceptionnelle qui mettra à l'honneur les Alumni créateurs d'entreprise !\nAvec la participation de : \n- Christophe Bancel (98),...
URL:https://association.centralesupelec-alumni.com/fr/event/soiree-tech-start-up/2025/05/23/9019
BEGIN:VALARM
TRIGGER:-P0DT1H0M0S
ACTION:DISPLAY
END:VALARM
END:VEVENT
END:VCALENDAR