BEGIN:VCALENDAR
VERSION:2.0
PRODID:-//hacksw/handcal//NONSGML v1.0//EN
BEGIN:VEVENT
DTSTART:20250430T173000Z
DTEND:20250430T203000Z
LOCATION:Big Chill King's Cross \n257-259, Pentonville Road \nN1 9NL LONDON
ORGANIZER;CN=Christophe Wakim - Grande-Bretagne (CSA):MAILTO:christophe.wakim@gmail.com
SUMMARY:Soirée au Big Chill, King's Cross, Mercredi 30 Avril 2025
DESCRIPTION:Le Groupe CentraleSupélec Alumni Grande-Bretagne invite les Supélec, CentraleSupélec et Centralien(ne)s des différentes écoles, à se retrouver :Mercredi 30 avril 2025, à partir de 18:30, au Bar Big...
URL:https://association.centralesupelec-alumni.com/fr/group/grande-bretagne-csa/265/calendar/soiree-au-big-chill-king-s-cross-mercredi-30-avril-2025/2025/04/30/9018
BEGIN:VALARM
TRIGGER:-P0DT1H0M0S
ACTION:DISPLAY
END:VALARM
END:VEVENT
END:VCALENDAR