BEGIN:VCALENDAR
VERSION:2.0
PRODID:-//hacksw/handcal//NONSGML v1.0//EN
BEGIN:VEVENT
DTSTART:20250512T164500Z
DTEND:20250512T190000Z
LOCATION:Maison CentraleSupélec \n8, Rue Jean Goujon \n75008 PARIS
ORGANIZER;CN=CentraleSupélec Alumni:MAILTO:csa-alumni@centralesupelec-alumni.com
SUMMARY:Cycle Europe - Les nouvelles relations entre le Royaume-Uni et l'Europe
DESCRIPTION:Dans le cadre de son Cycle Europe en partenariat avec l'Association Mouvement Européen ParisCentraleSupélec Alumni a le plaisir de vous convier à une conférence-débat sur le thème :\nPost-Brexit : les...
URL:https://association.centralesupelec-alumni.com/fr/event/cycle-europe-les-nouvelles-relations-entre-le-royaume-uni-et-l-europe/2025/05/12/9017
BEGIN:VALARM
TRIGGER:-P0DT1H0M0S
ACTION:DISPLAY
END:VALARM
END:VEVENT
END:VCALENDAR