BEGIN:VCALENDAR
VERSION:2.0
PRODID:-//hacksw/handcal//NONSGML v1.0//EN
BEGIN:VEVENT
DTSTART:20250530T073000Z
DTEND:20250530T083000Z
LOCATION:musée de Quiberon \n11, Rue de Port Haliguen \n56170 QUIBERON
ORGANIZER;CN=Claude Bailly - Voile Centralienne et Supélec:MAILTO:g.claude.bailly@gmail.com
SUMMARY:Les naufrages et les épaves à Quiberon : exposé et visite du musée
DESCRIPTION:Gildas Gouarin (ESE 82) est plongeur, explorateur et découvreur d'épaves sous-marines.Il nous racontera ses découvertes d'épaves sous-marines autour de la presqu'ile de Quiberon et nous fera visiter...
URL:https://association.centralesupelec-alumni.com/fr/group/voile-centralienne-et-supelec/345/calendar/les-naufrages-et-les-epaves-a-quiberon-expose-et-visite-du-musee/2025/05/30/9012
BEGIN:VALARM
TRIGGER:-P0DT1H0M0S
ACTION:DISPLAY
END:VALARM
END:VEVENT
END:VCALENDAR